BEGIN:VCALENDAR
VERSION:2.0
PRODID:-//hacksw/handcal//NONSGML v1.0//EN
BEGIN:VEVENT
SUMMARY:Tournoi regional
UID:12e73cf5-a013-4fb3-bd01-d75921c1723b
DTSTART:20260304T090000Z
DTEND:20260304T130000Z
LOCATION:Localisation   
CATEGORIES:Sportif
STATUS:
DESCRIPTION:<p>Le tournoi regional organise par le club aura lieu sur
 le grand stade de la ville a partir de 14h.<br> Trois de nos equipes
 seront en lice dans la competition.
 </p><p>Les prix seront remis en
 soiree.</p>
URL;VALUE=URI:https://durbuyois.sportsregions.fr/evenements/2026/03/04/tournoi-regional-2423492
END:VEVENT
END:VCALENDAR
