BEGIN:VCALENDAR
VERSION:2.0
PRODID:-//hacksw/handcal//NONSGML v1.0//EN
BEGIN:VEVENT
SUMMARY:Entrainement Equipe 1
UID:2011916d-3b8b-4ed9-aa9c-0d1e12cd99bd
DTSTART:20260304T180000Z
DTEND:20260304T200000Z
LOCATION:Localisation   
CATEGORIES:Entrainement
STATUS:
DESCRIPTION:Entrainement tactique pour l'equipe 1 ce soir au stade
 Municipal. 
URL;VALUE=URI:https://durbuyois.sportsregions.fr/evenements/2026/03/04/entrainement-equipe-1-2423494
END:VEVENT
END:VCALENDAR
